BEGIN:VCALENDAR
VERSION:2.0
PRODID:-//barner 16 - ECPv6.15.20//NONSGML v1.0//EN
CALSCALE:GREGORIAN
METHOD:PUBLISH
X-ORIGINAL-URL:https://barner16.de
X-WR-CALDESC:Veranstaltungen für barner 16
REFRESH-INTERVAL;VALUE=DURATION:PT1H
X-Robots-Tag:noindex
X-PUBLISHED-TTL:PT1H
BEGIN:VTIMEZONE
TZID:Europe/Berlin
BEGIN:DAYLIGHT
TZOFFSETFROM:+0100
TZOFFSETTO:+0200
TZNAME:CEST
DTSTART:20220327T010000
END:DAYLIGHT
BEGIN:STANDARD
TZOFFSETFROM:+0200
TZOFFSETTO:+0100
TZNAME:CET
DTSTART:20221030T010000
END:STANDARD
BEGIN:DAYLIGHT
TZOFFSETFROM:+0100
TZOFFSETTO:+0200
TZNAME:CEST
DTSTART:20230326T010000
END:DAYLIGHT
BEGIN:STANDARD
TZOFFSETFROM:+0200
TZOFFSETTO:+0100
TZNAME:CET
DTSTART:20231029T010000
END:STANDARD
BEGIN:DAYLIGHT
TZOFFSETFROM:+0100
TZOFFSETTO:+0200
TZNAME:CEST
DTSTART:20240331T010000
END:DAYLIGHT
BEGIN:STANDARD
TZOFFSETFROM:+0200
TZOFFSETTO:+0100
TZNAME:CET
DTSTART:20241027T010000
END:STANDARD
END:VTIMEZONE
BEGIN:VEVENT
DTSTART;TZID=Europe/Berlin:20230916T110000
DTEND;TZID=Europe/Berlin:20230916T160000
DTSTAMP:20260423T105131
CREATED:20230913T222022Z
LAST-MODIFIED:20240308T134258Z
UID:10591-1694862000-1694880000@barner16.de
SUMMARY:The Living Music Box
DESCRIPTION:Die Band The Living Music Box spielt am 16.09. beim Sommerfest vom Gesundheitszentrum St.Pauli. Kommt gerne vorbei! Die Veranstaltung ist Kostenlos.  \n\n\n\n\n\n\n\nVeranstaltungsort
URL:https://barner16.de/event/lmb-st-pauli-2023-2
LOCATION:Gesundheitszentrum St. Pauli\, Seewartenstraße 10\, Hamburg\, 20459\, Deutschland
CATEGORIES:Konzert
ATTACH;FMTTYPE=image/jpeg:https://barner16.de/wp-content/uploads/2023/05/lmb_gruppe.jpg
END:VEVENT
BEGIN:VEVENT
DTSTART;TZID=Europe/Berlin:20230916T220000
DTEND;TZID=Europe/Berlin:20230916T223000
DTSTAMP:20260423T105131
CREATED:20230913T224027Z
LAST-MODIFIED:20230928T104252Z
UID:10634-1694901600-1694903400@barner16.de
SUMMARY:Trio Herztöne
DESCRIPTION:Herztöne spielen bei der Nacht der Kirchen in Hamburg.  \n\n\n\n\n\n\n\n\n\nVeranstaltungsort
URL:https://barner16.de/event/trio-herztone-hamburg-2023-1
LOCATION:Hauptkirche St. Petri\, Bei der Petrikirche 2\, Hamburg\, 20095\, Deutschland
CATEGORIES:Konzert
ATTACH;FMTTYPE=image/jpeg:https://barner16.de/wp-content/uploads/2023/08/Carsten-Schnathorst_herz.jpg
END:VEVENT
END:VCALENDAR