BEGIN:VCALENDAR
VERSION:2.0
PRODID:-//barner 16 - ECPv6.15.20//NONSGML v1.0//EN
CALSCALE:GREGORIAN
METHOD:PUBLISH
X-ORIGINAL-URL:https://barner16.de
X-WR-CALDESC:Veranstaltungen für barner 16
REFRESH-INTERVAL;VALUE=DURATION:PT1H
X-Robots-Tag:noindex
X-PUBLISHED-TTL:PT1H
BEGIN:VTIMEZONE
TZID:Europe/Berlin
BEGIN:DAYLIGHT
TZOFFSETFROM:+0100
TZOFFSETTO:+0200
TZNAME:CEST
DTSTART:20220327T010000
END:DAYLIGHT
BEGIN:STANDARD
TZOFFSETFROM:+0200
TZOFFSETTO:+0100
TZNAME:CET
DTSTART:20221030T010000
END:STANDARD
BEGIN:DAYLIGHT
TZOFFSETFROM:+0100
TZOFFSETTO:+0200
TZNAME:CEST
DTSTART:20230326T010000
END:DAYLIGHT
BEGIN:STANDARD
TZOFFSETFROM:+0200
TZOFFSETTO:+0100
TZNAME:CET
DTSTART:20231029T010000
END:STANDARD
BEGIN:DAYLIGHT
TZOFFSETFROM:+0100
TZOFFSETTO:+0200
TZNAME:CEST
DTSTART:20240331T010000
END:DAYLIGHT
BEGIN:STANDARD
TZOFFSETFROM:+0200
TZOFFSETTO:+0100
TZNAME:CET
DTSTART:20241027T010000
END:STANDARD
END:VTIMEZONE
BEGIN:VEVENT
DTSTART;TZID=Europe/Berlin:20231002T100000
DTEND;TZID=Europe/Berlin:20231002T230000
DTSTAMP:20260423T104009
CREATED:20230926T230011Z
LAST-MODIFIED:20240308T134146Z
UID:10600-1696240800-1696287600@barner16.de
SUMMARY:The Living Music Box
DESCRIPTION:beim Festival der Deutschen Einheit\n\n\n\n\n\n\n\n\n\nTHE LIVING MUSIC BOX treten ihm Rahmen der „Hamburger Stiftungstage“ beim „Bürgerfest zum Tag der Deutschen Einheit“ auf. \n\n\n\n\n\n\n\nThe Living Music Box:Wir sind eine inklusive Band\, die hauptsächlich Coverversionen unterschiedlichster Rock- und Popsongs spielt\, wobei die Lieder teilweise umarrangiert werden. Mindestens aber wird den Liedern stets eine eigene Note verliehen. Die Bandbreite unseres Programms reicht von den 60er Jahren bis hin zu aktuellen Stücken\, wobei hier und da auch mal ein eigener Song in unserm Set zu finden ist. \n\n\n\nUnser Programm ist so unterschiedlich wie unsere Mitglieder selber. Was uns vereint\, ist die Liebe zur Musik. Wir haben großen Spaß daran\, uns bekannte Lieder anzueignen und in unserem eigenen Stil wiederzugeben. Den größten Spaß haben wir\, wenn wir es schaffen\, das Publikum bei Liveauftritten zum Mitsingen und -tanzen zu motivieren. \n\n\n\n\n\n\n\n10 – 19 Uhr: Hamburger Stiftungstage:Heute gestalten wir unser Morgen. Gemeinsam stiften wir Ideen\, schützen Bewährtes und stellen uns Herausforderungen. Egal ob Kunst\, Wissenschaft\, Klima\, Natur oder soziale Gerechtigkeit: Mit Dir öffnen Hamburger Stiftungen Horizonte.Zusammen\, Vielfältig\, Nachhaltig. \n\n\n\n\n\n\n\n\n\n\n\nVeranstaltungsort
URL:https://barner16.de/event/lmb-hamburger-stiftungstage-2023-1
LOCATION:Binnenalster\, Hamburg\, 20354\, Deutschland
CATEGORIES:Konzert
ATTACH;FMTTYPE=image/jpeg:https://barner16.de/wp-content/uploads/2023/09/lmb_tex.jpg
END:VEVENT
END:VCALENDAR