BEGIN:VCALENDAR
VERSION:2.0
PRODID:-//barner 16 - ECPv6.15.20//NONSGML v1.0//EN
CALSCALE:GREGORIAN
METHOD:PUBLISH
X-WR-CALNAME:barner 16
X-ORIGINAL-URL:https://barner16.de
X-WR-CALDESC:Veranstaltungen für barner 16
REFRESH-INTERVAL;VALUE=DURATION:PT1H
X-Robots-Tag:noindex
X-PUBLISHED-TTL:PT1H
BEGIN:VTIMEZONE
TZID:Europe/Berlin
BEGIN:DAYLIGHT
TZOFFSETFROM:+0100
TZOFFSETTO:+0200
TZNAME:CEST
DTSTART:20230326T010000
END:DAYLIGHT
BEGIN:STANDARD
TZOFFSETFROM:+0200
TZOFFSETTO:+0100
TZNAME:CET
DTSTART:20231029T010000
END:STANDARD
BEGIN:DAYLIGHT
TZOFFSETFROM:+0100
TZOFFSETTO:+0200
TZNAME:CEST
DTSTART:20240331T010000
END:DAYLIGHT
BEGIN:STANDARD
TZOFFSETFROM:+0200
TZOFFSETTO:+0100
TZNAME:CET
DTSTART:20241027T010000
END:STANDARD
BEGIN:DAYLIGHT
TZOFFSETFROM:+0100
TZOFFSETTO:+0200
TZNAME:CEST
DTSTART:20250330T010000
END:DAYLIGHT
BEGIN:STANDARD
TZOFFSETFROM:+0200
TZOFFSETTO:+0100
TZNAME:CET
DTSTART:20251026T010000
END:STANDARD
END:VTIMEZONE
BEGIN:VEVENT
DTSTART;TZID=Europe/Berlin:20240501T190000
DTEND;TZID=Europe/Berlin:20240504T190000
DTSTAMP:20260424T104249
CREATED:20240426T100021Z
LAST-MODIFIED:20240426T120945Z
UID:13058-1714590000-1714849200@barner16.de
SUMMARY:Funny Games
DESCRIPTION:mit SKART & Masters of the Universe + Meine Damen und Herren\n\n\n\n\n\n\n\n\n\nFoto: © Christian Martin\n\n\n\nFunny Games ist die neuste Performance von SKART & Masters of the Universe in Zusammenarbeit mit dem barner 16-Theaterensemble Meine Damen und Herren. Die einstündige Aufführung ist in deutscher Sprache und empfohlen für Menschen ab 8 Jahre. \n\n\n\n\n\n\n\nSpielen ist ein Idealzustand. Spielen macht glücklich. Spielen bringt die Menschen zusammen. Spielen macht die Welt so\, wie sie sein sollte. Doch was ist\, wenn Menschen zu viel spielen? Zu lang\, zu stark\, zu rücksichtslos? In ihrer neuen Produktion setzt das altersgemischte Ensemble seine forschende Auseinandersetzung mit der Qualität des Spielens fort. Diesmal untersuchen die jüngeren und älteren Akteur_innen von SKART & Masters of the Universe die düsteren Seiten des Spielens – erneut in kongenialer Zusammenarbeit mit ihren Freund_innen des inklusiven Ensembles Meine Damen und Herren und Gob Squad’s Sarah Thom. Mit Mitteln der Body Art machen sie weiter\, wenn es nicht mehr lustig ist. Spielfreudig begegnen sie den Themen Macht\, Individuum und Gesellschaft und sezieren in absurden-witzigen Bildwelten die überdrehten\, egoistischen und fiesen Anteile eines nur scheinbar unschuldigen Vorgangs. Das Ergebnis ist ein so fordernder wie berührender Abend für jüngeres und älteres Publikum – für alle\, die es wissen wollen! \n\n\n\n\n\n\n\n\nUraufführung am  Mittwoch\, den 1. Mai | 19 Uhr\n\n\n\nbesondere Veranstaltung am Donnerstag\, den 2. Mai:\n\n18 Uhr: kostenlose Tastführung (Treffpunkt am Infotresen im Foyer)\n\n\n\n19 Uhr: Aufführung mit Audiodeskription\n\n\n\n20 Uhr: Künstler_innengespräch\n\n\n\n\n\nweitere Aufführungen: 3. und 4. Mai | 19 Uhr\n\n\n\n\n\n\n\n\nVon und mit SKART & Masters of the Universe\, Antonia Beeskow\, Christoph Grothaus\, Charlotte Heidenreich\, Friederike Jaglitz\, Maika Knoblich\, Lone Lausen\, Isabella Lüthe\, Maja Maciak\, Björn Auftrag\, Thomas Möller\, Tintin Patrone\, Janne Plutat\, Minu Schilling\, Mark Schröppel\, Sina Schröppel (PK3000)\, Michael Schumacher\, Lina Strothmann\, Sarah Thom\, Hennrik Weber \n\n\n\n\n\n\n\n\n\n\n\nVeranstaltungsort\n\n\n\n\n\nFunny Games ist eine Produktion von SKART & MASTERS OF THE UNIVERSE und Kampnagel.Gefördert durch die Behörde für Kultur und Medien Hamburg und den Fonds Darstellende Künste aus Mitteln der Beauftragten der Bundesregierung für Kultur und Medien.
URL:https://barner16.de/event/funny-games2024
LOCATION:Kampnagel – k1\, Jarrestraße 20\, Hamburg\, 22303\, Deutschland
CATEGORIES:Audiodeskription,Performance,Rollstuhlgerecht,Tastführung,Theater
ATTACH;FMTTYPE=image/jpeg:https://barner16.de/wp-content/uploads/2024/03/Skart-Spielen-2-c-Christian-Martin.jpg
END:VEVENT
END:VCALENDAR