BEGIN:VCALENDAR
VERSION:2.0
PRODID:-//barner 16 - ECPv6.15.20//NONSGML v1.0//EN
CALSCALE:GREGORIAN
METHOD:PUBLISH
X-WR-CALNAME:barner 16
X-ORIGINAL-URL:https://barner16.de
X-WR-CALDESC:Veranstaltungen für barner 16
REFRESH-INTERVAL;VALUE=DURATION:PT1H
X-Robots-Tag:noindex
X-PUBLISHED-TTL:PT1H
BEGIN:VTIMEZONE
TZID:Europe/Berlin
BEGIN:DAYLIGHT
TZOFFSETFROM:+0100
TZOFFSETTO:+0200
TZNAME:CEST
DTSTART:20230326T010000
END:DAYLIGHT
BEGIN:STANDARD
TZOFFSETFROM:+0200
TZOFFSETTO:+0100
TZNAME:CET
DTSTART:20231029T010000
END:STANDARD
BEGIN:DAYLIGHT
TZOFFSETFROM:+0100
TZOFFSETTO:+0200
TZNAME:CEST
DTSTART:20240331T010000
END:DAYLIGHT
BEGIN:STANDARD
TZOFFSETFROM:+0200
TZOFFSETTO:+0100
TZNAME:CET
DTSTART:20241027T010000
END:STANDARD
BEGIN:DAYLIGHT
TZOFFSETFROM:+0100
TZOFFSETTO:+0200
TZNAME:CEST
DTSTART:20250330T010000
END:DAYLIGHT
BEGIN:STANDARD
TZOFFSETFROM:+0200
TZOFFSETTO:+0100
TZNAME:CET
DTSTART:20251026T010000
END:STANDARD
END:VTIMEZONE
BEGIN:VEVENT
DTSTART;TZID=Europe/Berlin:20240309T200000
DTEND;TZID=Europe/Berlin:20240309T200000
DTSTAMP:20260424T110843
CREATED:20240221T000021Z
LAST-MODIFIED:20240312T132748Z
UID:12408-1710014400-1710014400@barner16.de
SUMMARY:Messer / Station 17
DESCRIPTION:Fotos: Tim Bruening \n\n\n\nDer Schlagzeuger Philipp Wulf hat bei Station 17 aufgehört.Deswegen spielt die Band auf seinen Wunsch noch einmal mit ihm im Vorprogramm seiner anderen Band Messer. Dies ist die Release-Party für Kratermusik.Das neue Album von Messer ist ab den 1. März erhältlich. \n\n\n\nWir heißen den neuen Schlagzeuger von Station 17 willkommen: Ahoy Antoine! \n\n\n\nEinlass: 19.30 Uhr / Beginn: 20.00 Uhr \n\n\n\n\n\n\n\n\n\n\n\nVeranstaltungsort
URL:https://barner16.de/event/messer-2
LOCATION:Gleis 22\, Hafenstraße 34\, Münster\, 48153\, Deutschland
CATEGORIES:Konzert
ATTACH;FMTTYPE=image/jpeg:https://barner16.de/wp-content/uploads/2024/02/Station-17-Profile-Fotos-von-Tim-Bruening-2.jpg
END:VEVENT
BEGIN:VEVENT
DTSTART;TZID=Europe/Berlin:20240330T000000
DTEND;TZID=Europe/Berlin:20240330T235959
DTSTAMP:20260424T110843
CREATED:20240320T030021Z
LAST-MODIFIED:20240320T114542Z
UID:12390-1711756800-1711843199@barner16.de
SUMMARY:Straßengold
DESCRIPTION:beim Friedensfest Hamburg\n\n\n\n\n\n\n\n\n\nOstern ist eine friedensbewegte Zeit mit vielen Friedensmärschen und Osterfeuern. \n\n\n\nStraßengold\, das inklusive Straßenmusik-Projekt aus der barner 16\, ist beim Friedensfest in Hamburg mit dabei.Mal spielt Robin Enxing solo auf der akustischen Gitarre und mal im Duett mit Dirk Schewe. \n\n\n\n\n\n\n\n\n\n\n\nVeranstaltungsort
URL:https://barner16.de/event/strassengold-friedensfest-hamburg2024
LOCATION:Hamburg
CATEGORIES:Festival,Konzert
ATTACH;FMTTYPE=image/jpeg:https://barner16.de/wp-content/uploads/2024/02/strasengold.jpg
END:VEVENT
END:VCALENDAR